BEGIN:VCALENDAR
VERSION:2.0
PRODID:-//Business Follows - ECPv6.15.20//NONSGML v1.0//EN
CALSCALE:GREGORIAN
METHOD:PUBLISH
X-WR-CALNAME:Business Follows
X-ORIGINAL-URL:https://businessfollows.com
X-WR-CALDESC:Events for Business Follows
REFRESH-INTERVAL;VALUE=DURATION:PT1H
X-Robots-Tag:noindex
X-PUBLISHED-TTL:PT1H
BEGIN:VTIMEZONE
TZID:UTC
BEGIN:STANDARD
TZOFFSETFROM:+0000
TZOFFSETTO:+0000
TZNAME:UTC
DTSTART:20230101T000000
END:STANDARD
END:VTIMEZONE
BEGIN:VEVENT
DTSTART;VALUE=DATE:20240715
DTEND;VALUE=DATE:20240720
DTSTAMP:20260424T210811
CREATED:20240720T093210Z
LAST-MODIFIED:20240720T093210Z
UID:839-1721001600-1721433599@businessfollows.com
SUMMARY:The impact of the upcoming Cyber Resilience Act
DESCRIPTION:Invite-only event for CXOs of small to medium-sized Spanish System Integrators\, ISVs\, and Solution Providers who want to delve into the tenets of the Cyber Resilience Act\, understand the associated opportunities and risks\, and learn how to prepare for the transition in advance.
URL:https://businessfollows.com/event/the-impact-of-the-upcoming-cyber-resilience-act/
LOCATION:Eivissa\, Spain
END:VEVENT
END:VCALENDAR