BEGIN:VCALENDAR
VERSION:2.0
PRODID:-//Business Follows - ECPv6.15.20//NONSGML v1.0//EN
CALSCALE:GREGORIAN
METHOD:PUBLISH
X-WR-CALNAME:Business Follows
X-ORIGINAL-URL:https://businessfollows.com
X-WR-CALDESC:Events for Business Follows
REFRESH-INTERVAL;VALUE=DURATION:PT1H
X-Robots-Tag:noindex
X-PUBLISHED-TTL:PT1H
BEGIN:VTIMEZONE
TZID:UTC
BEGIN:STANDARD
TZOFFSETFROM:+0000
TZOFFSETTO:+0000
TZNAME:UTC
DTSTART:20230101T000000
END:STANDARD
END:VTIMEZONE
BEGIN:VEVENT
DTSTART;VALUE=DATE:20240812
DTEND;VALUE=DATE:20240817
DTSTAMP:20260424T192206
CREATED:20240902T164456Z
LAST-MODIFIED:20250716T105938Z
UID:844-1723420800-1723852799@businessfollows.com
SUMMARY:The Implications of the Upcoming Cyber Resilience Act
DESCRIPTION:Exclusive event for CXOs of small to medium-sized Valtellina System Integrators\, ISVs\, and Solution Providers. Join us to explore the key principles of the Cyber Resilience Act\, uncover the opportunities and risks it presents\, and discover how to proactively prepare for the transition.
URL:https://businessfollows.com/event/the-implications-of-the-upcoming-cyber-resilience-act/
LOCATION:Livigno\, Italy
END:VEVENT
END:VCALENDAR