BEGIN:VCALENDAR
VERSION:2.0
PRODID:-//Business Follows - ECPv6.15.20//NONSGML v1.0//EN
CALSCALE:GREGORIAN
METHOD:PUBLISH
X-WR-CALNAME:Business Follows
X-ORIGINAL-URL:https://businessfollows.com
X-WR-CALDESC:Events for Business Follows
REFRESH-INTERVAL;VALUE=DURATION:PT1H
X-Robots-Tag:noindex
X-PUBLISHED-TTL:PT1H
BEGIN:VTIMEZONE
TZID:UTC
BEGIN:STANDARD
TZOFFSETFROM:+0000
TZOFFSETTO:+0000
TZNAME:UTC
DTSTART:20240101T000000
END:STANDARD
END:VTIMEZONE
BEGIN:VEVENT
DTSTART;VALUE=DATE:20250704
DTEND;VALUE=DATE:20250712
DTSTAMP:20260423T233424
CREATED:20250710T082510Z
LAST-MODIFIED:20250710T082510Z
UID:850-1751587200-1752278399@businessfollows.com
SUMMARY:Business Models for Open Source Software: Over 20 years of Global Success Stories
DESCRIPTION:Join us for an exclusive\, invite-only gathering exploring sustainable business models in open source software. This special edition will follow an itinerant route between Paros and Mykonos\, bringing together key voices from the Greek OSS community — developers\, entrepreneurs\, and innovators. \nTo request an invitation or more information\, please contact: info@businessfollows.com
URL:https://businessfollows.com/event/business-models-for-open-source-software-over-20-years-of-global-success-stories/
LOCATION:Paros & Mykonos\, Paros - Mykonos
END:VEVENT
END:VCALENDAR