BEGIN:VCALENDAR
VERSION:2.0
PRODID:-//Business Follows - ECPv6.15.20//NONSGML v1.0//EN
CALSCALE:GREGORIAN
METHOD:PUBLISH
X-WR-CALNAME:Business Follows
X-ORIGINAL-URL:https://businessfollows.com
X-WR-CALDESC:Events for Business Follows
REFRESH-INTERVAL;VALUE=DURATION:PT1H
X-Robots-Tag:noindex
X-PUBLISHED-TTL:PT1H
BEGIN:VTIMEZONE
TZID:UTC
BEGIN:STANDARD
TZOFFSETFROM:+0000
TZOFFSETTO:+0000
TZNAME:UTC
DTSTART:20230101T000000
END:STANDARD
END:VTIMEZONE
BEGIN:VEVENT
DTSTART;VALUE=DATE:20240212
DTEND;VALUE=DATE:20240217
DTSTAMP:20260420T130247
CREATED:20240214T071208Z
LAST-MODIFIED:20240214T071208Z
UID:836-1707696000-1708127999@businessfollows.com
SUMMARY:Cyber Resilience Act: State of the Art (cancelled)
DESCRIPTION:Evento ad inviti dedicato a CXO di System Integrator\, ISVs e Solution Providers di piccole-medie dimensioni che vogliano approfondire i dettami del Cyber Resilience Act\, conoscere opportunità e rischi associati e come preparsi per tempo alla transizione.
URL:https://businessfollows.com/event/cyber-resilience-act-state-of-the-art-cancelled/
LOCATION:Alpe di Siusi\, BZ\, Italy
END:VEVENT
END:VCALENDAR